Workbook

Sheet Приложение 5
Y1: Приложение 5 | AG1: Лист 1 | AH1: Лист 1
A2: Журнал наблюдений за температурой на поверхности печи при двух топках в сутки
A3: Организация | N3: Печь | AD3: Испытание № 1
N4: ОИК ХК (Отопительная с хлебной камерой И.Кузнецова) | AD4: 05.01.2009 г.
A5: Номер п/п | C5: Часы, мин | F5: Нумерация стенки | W5: I | AD5: Средняя повременная температура по стенке | AH5: tIFI
F7: Пояса и номера точек замера температур
F9: Нижний пояс | V9: Верхний пояс
F11: 1 | G11: 2 | H11: 1a | I11: 2a | L11: tcp | N11: 3 | O11: 4 | P11: 5 | Q11: 6 | R11: 7 | S11: 8 | T11: tcp | V11: 9 | W11: 10 | X11: 11 | Y11: 12 | AB11: tcp | AD11: tI
A13: 1 | C13: 09:50 | F13: 39 | G13: 43 | H13: 52 | I13: 62 | L13: =AVERAGE(F13:I13) -> 49 | N13: 49 | O13: 57 | P13: 49 | T13: =AVERAGE(N13:S13) -> 51.666667 | V13: 46.5 | W13: 46.5 | X13: 44 | Y13: 44 | AB13: =AVERAGE(V13:Y13) -> 45.25 | AD13: =(L13+T13+AB13)/3 -> 48.638889 | AH13: =AD13*F$29 -> 94.359444
A14: 2 | C14: 10:50 | F14: 39 | G14: 43 | H14: 51.5 | I14: 64 | L14: =AVERAGE(F14:I14) -> 49.375 | N14: 48.5 | O14: 58 | P14: 49 | T14: =AVERAGE(N14:S14) -> 51.833333 | V14: 46 | W14: 46 | X14: 43 | Y14: 42.5 | AB14: =AVERAGE(V14:Y14) -> 44.375 | AD14: =(L14+T14+AB14)/3 -> 48.527778 | AH14: =AD14*F$29 -> 94.143889
A15: 3 | C15: 11:50 | F15: 38.5 | G15: 43.5 | H15: 50.5 | I15: 68.5 | L15: =AVERAGE(F15:I15) -> 50.25 | N15: 47.5 | O15: 62.5 | P15: 49 | T15: =AVERAGE(N15:S15) -> 53 | V15: 46 | W15: 46 | X15: 42.5 | Y15: 42.5 | AB15: =AVERAGE(V15:Y15) -> 44.25 | AD15: =(L15+T15+AB15)/3 -> 49.166667 | AH15: =AD15*F$29 -> 95.383333
A16: 4 | C16: 12:50 | F16: 39 | G16: 44.5 | H16: 50.5 | I16: 70.5 | L16: =AVERAGE(F16:I16) -> 51.125 | N16: 48.5 | O16: 61 | P16: 48.5 | T16: =AVERAGE(N16:S16) -> 52.666667 | V16: 46 | W16: 46.5 | X16: 42 | Y16: 42.5 | AB16: =AVERAGE(V16:Y16) -> 44.25 | AD16: =(L16+T16+AB16)/3 -> 49.347222 | AH16: =AD16*F$29 -> 95.733611
A17: 5 | C17: 13:50 | F17: 41.5 | G17: 44 | H17: 49.5 | I17: 72.5 | L17: =AVERAGE(F17:I17) -> 51.875 | N17: 48.5 | O17: 59.5 | P17: 48.5 | T17: =AVERAGE(N17:S17) -> 52.166667 | V17: 44.5 | W17: 44.5 | X17: 40 | Y17: 40.5 | AB17: =AVERAGE(V17:Y17) -> 42.375 | AD17: =(L17+T17+AB17)/3 -> 48.805556 | AH17: =AD17*F$29 -> 94.682778
A18: 6 | C18: 14:50 | F18: 43.5 | G18: 48.5 | H18: 52 | I18: 78.5 | L18: =AVERAGE(F18:I18) -> 55.625 | N18: 49 | O18: 61.5 | P18: 49 | T18: =AVERAGE(N18:S18) -> 53.166667 | V18: 46 | W18: 46 | X18: 41 | Y18: 41 | AB18: =AVERAGE(V18:Y18) -> 43.5 | AD18: =(L18+T18+AB18)/3 -> 50.763889 | AH18: =AD18*F$29 -> 98.481944
A19: 7 | C19: 15:50 | F19: 43.5 | G19: 49.5 | H19: 51.5 | I19: 76 | L19: =AVERAGE(F19:I19) -> 55.125 | N19: 48.5 | O19: 60.5 | P19: 48.5 | T19: =AVERAGE(N19:S19) -> 52.5 | V19: 46 | W19: 46 | X19: 41 | Y19: 41 | AB19: =AVERAGE(V19:Y19) -> 43.5 | AD19: =(L19+T19+AB19)/3 -> 50.375 | AH19: =AD19*F$29 -> 97.7275
A20: 8 | C20: 16:50 | F20: 43 | G20: 47.5 | H20: 54.5 | I20: 75.5 | L20: =AVERAGE(F20:I20) -> 55.125 | N20: 50.5 | O20: 61 | P20: 51 | T20: =AVERAGE(N20:S20) -> 54.166667 | V20: 47.5 | W20: 47.5 | X20: 41.5 | Y20: 41 | AB20: =AVERAGE(V20:Y20) -> 44.375 | AD20: =(L20+T20+AB20)/3 -> 51.222222 | AH20: =AD20*F$29 -> 99.371111
A21: 9 | C21: 17:50 | F21: 42.5 | G21: 47.5 | H21: 54 | I21: 74 | L21: =AVERAGE(F21:I21) -> 54.5 | N21: 50.5 | O21: 61 | P21: 51 | T21: =AVERAGE(N21:S21) -> 54.166667 | V21: 47.5 | W21: 47.5 | X21: 41.5 | Y21: 41.5 | AB21: =AVERAGE(V21:Y21) -> 44.5 | AD21: =(L21+T21+AB21)/3 -> 51.055556 | AH21: =AD21*F$29 -> 99.047778
A22: 10 | C22: 18:50 | F22: 42 | G22: 47.5 | H22: 54.5 | I22: 73 | L22: =AVERAGE(F22:I22) -> 54.25 | N22: 50.5 | O22: 60.5 | P22: 51 | T22: =AVERAGE(N22:S22) -> 54 | V22: 48 | W22: 48 | X22: 42 | Y22: 42 | AB22: =AVERAGE(V22:Y22) -> 45 | AD22: =(L22+T22+AB22)/3 -> 51.083333 | AH22: =AD22*F$29 -> 99.101667
A23: 11 | C23: 19:50 | F23: 41.5 | G23: 46.5 | H23: 54 | I23: 70.5 | L23: =AVERAGE(F23:I23) -> 53.125 | N23: 50.5 | O23: 60 | P23: 51 | T23: =AVERAGE(N23:S23) -> 53.833333 | V23: 48 | W23: 48 | X23: 42 | Y23: 42 | AB23: =AVERAGE(V23:Y23) -> 45 | AD23: =(L23+T23+AB23)/3 -> 50.652778 | AH23: =AD23*F$29 -> 98.266389
A24: 12 | C24: 20:50 | F24: 41 | G24: 44.5 | H24: 53.5 | I24: 67 | L24: =AVERAGE(F24:I24) -> 51.5 | N24: 50 | O24: 58.5 | P24: 50 | T24: =AVERAGE(N24:S24) -> 52.833333 | V24: 48 | W24: 48 | X24: 42 | Y24: 42 | AB24: =AVERAGE(V24:Y24) -> 45 | AD24: =(L24+T24+AB24)/3 -> 49.777778 | AH24: =AD24*F$29 -> 96.568889
A25: 13 | C25: 21:50 | F25: 40.5 | G25: 43 | H25: 53 | I25: 65 | L25: =AVERAGE(F25:I25) -> 50.375 | N25: 50 | O25: 57.5 | P25: 49.5 | T25: =AVERAGE(N25:S25) -> 52.333333 | V25: 47.5 | W25: 48 | X25: 42 | Y25: 42 | AB25: =AVERAGE(V25:Y25) -> 44.875 | AD25: =(L25+T25+AB25)/3 -> 49.194444 | AH25: =AD25*F$29 -> 95.437222
C27: Tср | F27: =AVERAGE(F13:I25) -> 52.403846 | N27: =AVERAGE(N13:S25) -> 52.948718 | V27: =AVERAGE(V13:W25) -> 46.769231 | X27: =AVERAGE(X13:Y25) -> 41.884615
C29: S1 | F29: 1.94
S32: Подпись
D33: Примечание. Журнал ведётся по каждой стенке печи
Y34: Приложение 5 | AG34: Лист 2
A35: Журнал наблюдений за температурой на поверхности печи при двух топках в сутки
A36: Организация | N36: Печь | AD36: Испытание № 1
N37: ОИК ХК (Отопительная с хлебной камерой И.Кузнецова) | AD37: 05.01.2009 г.
A38: Номер п/п | C38: Часы, мин | F38: Нумерация стенки | W38: II | AD38: Средняя повременная температура по стенке | AH38: tIIFII
F40: Пояса и номера точек замера температур
F42: Нижний пояс | V42: Верхний пояс
F44: 13 | G44: 14 | H44: 13a | I44: 14a | L44: tcp | N44: 15 | O44: 16 | P44: 17 | Q44: 18 | T44: tcp | V44: 19 | W44: 20 | X44: 21 | Y44: 22 | AB44: tcp | AD44: tII
A46: 1 | C46: 09:50 | F46: 38 | G46: 43.5 | H46: 49.5 | I46: 56.5 | L46: =(F46+G46+H46+I46)/4 -> 46.875 | N46: 50.5 | O46: 55.5 | T46: =(N46+O46)/2 -> 53 | V46: 46 | W46: 51.5 | X46: 44 | Y46: 44 | AB46: =(V46+W46+X46+Y46)/4 -> 46.375 | AD46: =(L46+T46+AB46)/3 -> 48.75 | AH46: =AD46*F$62 -> 61.9125
A47: 2 | C47: 10:50 | F47: 37.5 | G47: 43 | H47: 49 | I47: 55.5 | L47: =(F47+G47+H47+I47)/4 -> 46.25 | N47: 50 | O47: 55 | T47: =(N47+O47)/2 -> 52.5 | V47: 46.5 | W47: 51 | X47: 43.5 | Y47: 43.5 | AB47: =(V47+W47+X47+Y47)/4 -> 46.125 | AD47: =(L47+T47+AB47)/3 -> 48.291667 | AH47: =AD47*F$62 -> 61.330417
A48: 3 | C48: 11:50 | F48: 37.5 | G48: 42 | H48: 48.5 | I48: 55 | L48: =(F48+G48+H48+I48)/4 -> 45.75 | N48: 50 | O48: 54.5 | T48: =(N48+O48)/2 -> 52.25 | V48: 47 | W48: 51 | X48: 43 | Y48: 43 | AB48: =(V48+W48+X48+Y48)/4 -> 46 | AD48: =(L48+T48+AB48)/3 -> 48 | AH48: =AD48*F$62 -> 60.96
A49: 4 | C49: 12:50 | F49: 38 | G49: 43 | H49: 48 | I49: 56 | L49: =(F49+G49+H49+I49)/4 -> 46.25 | N49: 50 | O49: 55.5 | T49: =(N49+O49)/2 -> 52.75 | V49: 46.5 | W49: 51.5 | X49: 42.5 | Y49: 43 | AB49: =(V49+W49+X49+Y49)/4 -> 45.875 | AD49: =(L49+T49+AB49)/3 -> 48.291667 | AH49: =AD49*F$62 -> 61.330417
A50: 5 | C50: 13:50 | F50: 38.5 | G50: 43 | H50: 47.5 | I50: 55.5 | L50: =(F50+G50+H50+I50)/4 -> 46.125 | N50: 49.5 | O50: 55 | T50: =(N50+O50)/2 -> 52.25 | V50: 46 | W50: 50.5 | X50: 42 | Y50: 42.5 | AB50: =(V50+W50+X50+Y50)/4 -> 45.25 | AD50: =(L50+T50+AB50)/3 -> 47.875 | AH50: =AD50*F$62 -> 60.80125
A51: 6 | C51: 14:50 | F51: 39 | G51: 45.5 | H51: 49.5 | I51: 59.5 | L51: =(F51+G51+H51+I51)/4 -> 48.375 | N51: 51 | O51: 57 | T51: =(N51+O51)/2 -> 54 | V51: 47 | W51: 52 | X51: 40 | Y51: 40.5 | AB51: =(V51+W51+X51+Y51)/4 -> 44.875 | AD51: =(L51+T51+AB51)/3 -> 49.083333 | AH51: =AD51*F$62 -> 62.335833
A52: 7 | C52: 15:50 | F52: 40.5 | G52: 46.5 | H52: 50.5 | I52: 61.5 | L52: =(F52+G52+H52+I52)/4 -> 49.75 | N52: 51 | O52: 59 | T52: =(N52+O52)/2 -> 55 | V52: 47.5 | W52: 53 | X52: 41 | Y52: 41 | AB52: =(V52+W52+X52+Y52)/4 -> 45.625 | AD52: =(L52+T52+AB52)/3 -> 50.125 | AH52: =AD52*F$62 -> 63.65875
A53: 8 | C53: 16:50 | F53: 40 | G53: 46 | H53: 51.5 | I53: 61 | L53: =(F53+G53+H53+I53)/4 -> 49.625 | N53: 52 | O53: 59.5 | T53: =(N53+O53)/2 -> 55.75 | V53: 48 | W53: 53.5 | X53: 41.5 | Y53: 41 | AB53: =(V53+W53+X53+Y53)/4 -> 46 | AD53: =(L53+T53+AB53)/3 -> 50.458333 | AH53: =AD53*F$62 -> 64.082083
A54: 9 | C54: 17:50 | F54: 41 | G54: 46 | H54: 52 | I54: 61 | L54: =(F54+G54+H54+I54)/4 -> 50 | N54: 52.5 | O54: 59.5 | T54: =(N54+O54)/2 -> 56 | V54: 48.5 | W54: 53.5 | X54: 41.5 | Y54: 42 | AB54: =(V54+W54+X54+Y54)/4 -> 46.375 | AD54: =(L54+T54+AB54)/3 -> 50.791667 | AH54: =AD54*F$62 -> 64.505417
A55: 10 | C55: 18:50 | F55: 41.5 | G55: 46.5 | H55: 52.5 | I55: 61 | L55: =(F55+G55+H55+I55)/4 -> 50.375 | N55: 53 | O55: 59.5 | T55: =(N55+O55)/2 -> 56.25 | V55: 49 | W55: 53.5 | X55: 42 | Y55: 42 | AB55: =(V55+W55+X55+Y55)/4 -> 46.625 | AD55: =(L55+T55+AB55)/3 -> 51.083333 | AH55: =AD55*F$62 -> 64.875833
A56: 11 | C56: 19:50 | F56: 41 | G56: 46.5 | H56: 52.5 | I56: 60.5 | L56: =(F56+G56+H56+I56)/4 -> 50.125 | N56: 52.5 | O56: 59 | T56: =(N56+O56)/2 -> 55.75 | V56: 49 | W56: 53 | X56: 42 | Y56: 42 | AB56: =(V56+W56+X56+Y56)/4 -> 46.5 | AD56: =(L56+T56+AB56)/3 -> 50.791667 | AH56: =AD56*F$62 -> 64.505417
A57: 12 | C57: 20:50 | F57: 40.5 | G57: 45.5 | H57: 51 | I57: 59 | L57: =(F57+G57+H57+I57)/4 -> 49 | N57: 52 | O57: 58 | T57: =(N57+O57)/2 -> 55 | V57: 48.5 | W57: 52.5 | X57: 42 | Y57: 42 | AB57: =(V57+W57+X57+Y57)/4 -> 46.25 | AD57: =(L57+T57+AB57)/3 -> 50.083333 | AH57: =AD57*F$62 -> 63.605833
A58: 13 | C58: 21:50 | F58: 39.5 | G58: 44.5 | H58: 51.5 | I58: 58.5 | L58: =(F58+G58+H58+I58)/4 -> 48.5 | N58: 51 | O58: 56.5 | T58: =(N58+O58)/2 -> 53.75 | V58: 48 | W58: 52 | X58: 42 | Y58: 42 | AB58: =(V58+W58+X58+Y58)/4 -> 46 | AD58: =(L58+T58+AB58)/3 -> 49.416667 | AH58: =AD58*F$62 -> 62.759167
C60: Tср | F60: =AVERAGE(F46:I58) -> 48.230769 | N60: =AVERAGE(N46:Q58) -> 54.173077 | V60: =AVERAGE(V46:W58) -> 49.846154 | X60: =AVERAGE(X46:Y58) -> 42.134615
C62: S2 | F62: 1.27
S65: Подпись
D66: Примечание. Журнал ведётся по каждой стенке печи
Y67: Приложение 5 | AG67: Лист 3 | AH67: Лист 2
A68: Журнал наблюдений за температурой на поверхности печи при двух топках в сутки
A69: Организация | N69: Печь | AD69: Испытание № 1
N70: ОИК ХК (Отопительная с хлебной камерой И.Кузнецова) | AD70: 05.01.2009 г.
A71: Номер п/п | C71: Часы, мин | F71: Нумерация стенки | W71: III | AD71: Средняя повременная температура по стенке | AH71: tIIIFIII
F73: Пояса и номера точек замера температур
F75: Нижний пояс | V75: Верхний пояс
F77: 23 | G77: 24 | H77: 25 | I77: 23a | J77: 24a | K77: 25a | L77: tcp | N77: 26 | O77: 27 | P77: 28 | Q77: 29 | R77: 30 | S77: 31 | T77: tcp | V77: 32 | W77: 33 | X77: 34 | Y77: 35 | AB77: tcp | AD77: tIII
A79: 1 | C79: 09:50 | F79: 40.5 | G79: 41 | H79: 40 | I79: 53 | J79: 60 | K79: 54 | L79: =(F79+G79+H79+I79+J79+K79)/6 -> 48.083333 | N79: 55 | O79: 57 | P79: 50.5 | T79: =(N79+O79+P79)/3 -> 54.166667 | V79: 48.5 | W79: 46.5 | X79: 44 | Y79: 44 | AB79: =(V79+W79+X79+Y79)/4 -> 45.75 | AD79: =(L79+T79+AB79)/3 -> 49.333333 | AH79: =AD79*F$95 -> 95.706667
A80: 2 | C80: 10:50 | F80: 39 | G80: 39.5 | H80: 39.5 | I80: 52 | J80: 59 | K80: 53 | L80: =(F80+G80+H80+I80+J80+K80)/6 -> 47 | N80: 54 | O80: 56 | P80: 50 | T80: =(N80+O80)/2 -> 55 | V80: 48.5 | W80: 46 | X80: 43.5 | Y80: 43 | AB80: =(V80+W80+X80+Y80)/4 -> 45.25 | AD80: =(L80+T80+AB80)/3 -> 49.083333 | AH80: =AD80*F$95 -> 95.221667
A81: 3 | C81: 11:50 | F81: 38 | G81: 39.5 | H81: 39 | I81: 51.5 | J81: 57 | K81: 52.5 | L81: =(F81+G81+H81+I81+J81+K81)/6 -> 46.25 | N81: 53.5 | O81: 55.5 | P81: 49.5 | T81: =(N81+O81)/2 -> 54.5 | V81: 48 | W81: 46 | X81: 43 | Y81: 43 | AB81: =(V81+W81+X81+Y81)/4 -> 45 | AD81: =(L81+T81+AB81)/3 -> 48.583333 | AH81: =AD81*F$95 -> 94.251667
A82: 4 | C82: 12:50 | F82: 39.5 | G82: 39.5 | H82: 39.5 | I82: 52.5 | J82: 56.5 | K82: 53.5 | L82: =(F82+G82+H82+I82+J82+K82)/6 -> 46.833333 | N82: 55.5 | O82: 57.5 | P82: 50 | T82: =(N82+O82)/2 -> 56.5 | V82: 48 | W82: 46.5 | X82: 43 | Y82: 43 | AB82: =(V82+W82+X82+Y82)/4 -> 45.125 | AD82: =(L82+T82+AB82)/3 -> 49.486111 | AH82: =AD82*F$95 -> 96.003056
A83: 5 | C83: 13:50 | F83: 40.5 | G83: 39 | H83: 39.5 | I83: 58 | J83: 54 | K83: 57.5 | L83: =(F83+G83+H83+I83+J83+K83)/6 -> 48.083333 | N83: 57 | O83: 60 | P83: 52 | T83: =(N83+O83)/2 -> 58.5 | V83: 48.5 | W83: 47.5 | X83: 42.5 | Y83: 43 | AB83: =(V83+W83+X83+Y83)/4 -> 45.375 | AD83: =(L83+T83+AB83)/3 -> 50.652778 | AH83: =AD83*F$95 -> 98.266389
A84: 6 | C84: 14:50 | F84: 41 | G84: 40.5 | H84: 41 | I84: 55 | J84: 61 | K84: 55 | L84: =(F84+G84+H84+I84+J84+K84)/6 -> 48.916667 | N84: 59 | O84: 62 | P84: 52.5 | T84: =(N84+O84)/2 -> 60.5 | V84: 50 | W84: 48.5 | X84: 42 | Y84: 43 | AB84: =(V84+W84+X84+Y84)/4 -> 45.875 | AD84: =(L84+T84+AB84)/3 -> 51.763889 | AH84: =AD84*F$95 -> 100.42194
A85: 7 | C85: 15:50 | F85: 41 | G85: 41.5 | H85: 41 | I85: 56 | J85: 62.5 | K85: 56.5 | L85: =(F85+G85+H85+I85+J85+K85)/6 -> 49.75 | N85: 59.5 | O85: 62.5 | P85: 52.5 | T85: =(N85+O85)/2 -> 61 | V85: 50 | W85: 48.5 | X85: 42 | Y85: 42 | AB85: =(V85+W85+X85+Y85)/4 -> 45.625 | AD85: =(L85+T85+AB85)/3 -> 52.125 | AH85: =AD85*F$95 -> 101.1225
A86: 8 | C86: 16:50 | F86: 41.5 | G86: 42.5 | H86: 42.5 | I86: 57.5 | J86: 65 | K86: 58.5 | L86: =(F86+G86+H86+I86+J86+K86)/6 -> 51.25 | N86: 61 | O86: 63.5 | P86: 53.5 | T86: =(N86+O86)/2 -> 62.25 | V86: 51 | W86: 48.5 | X86: 41 | Y86: 41.5 | AB86: =(V86+W86+X86+Y86)/4 -> 45.5 | AD86: =(L86+T86+AB86)/3 -> 53 | AH86: =AD86*F$95 -> 102.82
A87: 9 | C87: 17:50 | F87: 42 | G87: 43 | H87: 43 | I87: 58 | J87: 65 | K87: 58.5 | L87: =(F87+G87+H87+I87+J87+K87)/6 -> 51.583333 | N87: 61 | O87: 63.5 | P87: 53.5 | T87: =(N87+O87)/2 -> 62.25 | V87: 51.5 | W87: 49 | X87: 41.5 | Y87: 41.5 | AB87: =(V87+W87+X87+Y87)/4 -> 45.875 | AD87: =(L87+T87+AB87)/3 -> 53.236111 | AH87: =AD87*F$95 -> 103.27806
A88: 10 | C88: 18:50 | F88: 42.5 | G88: 43.5 | H88: 43 | I88: 58.5 | J88: 65 | K88: 58.5 | L88: =(F88+G88+H88+I88+J88+K88)/6 -> 51.833333 | N88: 61 | O88: 63.5 | P88: 54 | T88: =(N88+O88)/2 -> 62.25 | V88: 51.5 | W88: 49 | X88: 42 | Y88: 42 | AB88: =(V88+W88+X88+Y88)/4 -> 46.125 | AD88: =(L88+T88+AB88)/3 -> 53.402778 | AH88: =AD88*F$95 -> 103.60139
A89: 11 | C89: 19:50 | F89: 42.5 | G89: 43 | H89: 43 | I89: 58 | J89: 64 | K89: 58 | L89: =(F89+G89+H89+I89+J89+K89)/6 -> 51.416667 | N89: 60 | O89: 62 | P89: 53.5 | T89: =(N89+O89)/2 -> 61 | V89: 51.5 | W89: 49 | X89: 42 | Y89: 42 | AB89: =(V89+W89+X89+Y89)/4 -> 46.125 | AD89: =(L89+T89+AB89)/3 -> 52.847222 | AH89: =AD89*F$95 -> 102.52361
A90: 12 | C90: 20:50 | F90: 42 | G90: 43.5 | H90: 42 | I90: 57 | J90: 63 | K90: 57 | L90: =(F90+G90+H90+I90+J90+K90)/6 -> 50.75 | N90: 58 | O90: 60 | P90: 53 | T90: =(N90+O90)/2 -> 59 | V90: 51 | W90: 49 | X90: 42 | Y90: 42 | AB90: =(V90+W90+X90+Y90)/4 -> 46 | AD90: =(L90+T90+AB90)/3 -> 51.916667 | AH90: =AD90*F$95 -> 100.71833
A91: 13 | C91: 21:50 | F91: 41.5 | G91: 43.5 | H91: 41.5 | I91: 56.5 | J91: 61.5 | K91: 56.5 | L91: =(F91+G91+H91+I91+J91+K91)/6 -> 50.166667 | N91: 57.5 | O91: 59.5 | P91: 52.5 | T91: =(N91+O91)/2 -> 58.5 | V91: 50.5 | W91: 48.5 | X91: 42 | Y91: 42 | AB91: =(V91+W91+X91+Y91)/4 -> 45.75 | AD91: =(L91+T91+AB91)/3 -> 51.472222 | AH91: =AD91*F$95 -> 99.856111
C93: Tср | F93: =AVERAGE(F79:K91) -> 49.378205 | N93: =AVERAGE(N79:S91) -> 56.705128 | V93: =AVERAGE(V79:W91) -> 48.884615 | X93: =AVERAGE(X79:Y91) -> 42.403846
C95: S3 | F95: 1.94
S99: Подпись
D100: Примечание. Журнал ведётся по каждой стенке печи
Y101: Приложение 5 | AG101: Лист 4
A102: Журнал наблюдений за температурой на поверхности печи при двух топках в сутки
A103: Организация | N103: Печь | AD103: Испытание № 1
N104: ОИК ХК (Отопительная с хлебной камерой И.Кузнецова) | AD104: 05.01.2009 г.
A105: Номер п/п | C105: Часы, мин | F105: Нумерация стенки | W105: VI | AD105: Средняя повременная температура по стенке | AH105: tIVFIV
F107: Пояса и номера точек замера температур
F109: Нижний пояс | V109: Верхний пояс
F111: 36 | G111: 37 | H111: 36a | I111: 37a | L111: tcp | N111: 38 | O111: 39 | P111: 40 | Q111: 41 | T111: tcp | V111: 42 | W111: 43 | X111: 44 | Y111: 45 | AB111: tcp | AD111: tIV
A113: 1 | C113: 09:50 | F113: 41.5 | G113: 34 | H113: 56 | I113: 49 | L113: =(F113+G113+H113+I113)/4 -> 45.125 | N113: 53 | O113: 48.5 | T113: =(N113+O113)/2 -> 50.75 | V113: 50.5 | W113: 46.5 | X113: 42 | Y113: 42.5 | AB113: =(V113+W113+X113+Y113)/4 -> 45.375 | AD113: =(L113+T113+AB113)/3 -> 47.083333 | AH113: =AD113*F$131 -> 59.795833
A114: 2 | C114: 10:50 | F114: 38 | G114: 34.5 | H114: 54 | I114: 48 | L114: =(F114+G114+H114+I114)/4 -> 43.625 | N114: 52 | O114: 49 | T114: =(N114+O114)/2 -> 50.5 | V114: 50 | W114: 45 | X114: 42 | Y114: 42.5 | AB114: =(V114+W114+X114+Y114)/4 -> 44.875 | AD114: =(L114+T114+AB114)/3 -> 46.333333 | AH114: =AD114*F$131 -> 58.843333
A115: 3 | C115: 11:50 | F115: 38.5 | G115: 35 | H115: 53.5 | I115: 47 | L115: =(F115+G115+H115+I115)/4 -> 43.5 | N115: 51.5 | O115: 46.5 | T115: =(N115+O115)/2 -> 49 | V115: 49 | W115: 44.5 | X115: 42 | Y115: 42.5 | AB115: =(V115+W115+X115+Y115)/4 -> 44.5 | AD115: =(L115+T115+AB115)/3 -> 45.666667 | AH115: =AD115*F$131 -> 57.996667
A116: 4 | C116: 12:50 | F116: 41.5 | G116: 37 | H116: 54.5 | I116: 48 | L116: =(F116+G116+H116+I116)/4 -> 45.25 | N116: 51.5 | O116: 48 | T116: =(N116+O116)/2 -> 49.75 | V116: 50 | W116: 45 | X116: 42.5 | Y116: 42.5 | AB116: =(V116+W116+X116+Y116)/4 -> 45 | AD116: =(L116+T116+AB116)/3 -> 46.666667 | AH116: =AD116*F$131 -> 59.266667
A117: 5 | C117: 13:50 | F117: 41.5 | G117: 36.5 | H117: 54 | I117: 46 | L117: =(F117+G117+H117+I117)/4 -> 44.5 | N117: 51 | O117: 47 | T117: =(N117+O117)/2 -> 49 | V117: 51 | W117: 46 | X117: 42 | Y117: 42.5 | AB117: =(V117+W117+X117+Y117)/4 -> 45.375 | AD117: =(L117+T117+AB117)/3 -> 46.291667 | AH117: =AD117*F$131 -> 58.790417
A118: 6 | C118: 14:50 | F118: 44 | G118: 38 | H118: 57 | I118: 48 | L118: =(F118+G118+H118+I118)/4 -> 46.75 | N118: 53.5 | O118: 48.5 | T118: =(N118+O118)/2 -> 51 | V118: 51 | W118: 47 | X118: 41 | Y118: 41 | AB118: =(V118+W118+X118+Y118)/4 -> 45 | AD118: =(L118+T118+AB118)/3 -> 47.583333 | AH118: =AD118*F$131 -> 60.430833
A119: 7 | C119: 15:50 | F119: 42 | G119: 38 | H119: 57.5 | I119: 48 | L119: =(F119+G119+H119+I119)/4 -> 46.375 | N119: 54 | O119: 49 | T119: =(N119+O119)/2 -> 51.5 | V119: 51 | W119: 47 | X119: 41 | Y119: 41 | AB119: =(V119+W119+X119+Y119)/4 -> 45 | AD119: =(L119+T119+AB119)/3 -> 47.625 | AH119: =AD119*F$131 -> 60.48375
A120: 8 | C120: 16:50 | F120: 43 | G120: 38 | H120: 58 | I120: 49.5 | L120: =(F120+G120+H120+I120)/4 -> 47.125 | N120: 54 | O120: 49.5 | T120: =(N120+O120)/2 -> 51.75 | V120: 51 | W120: 45 | X120: 40.5 | Y120: 41 | AB120: =(V120+W120+X120+Y120)/4 -> 44.375 | AD120: =(L120+T120+AB120)/3 -> 47.75 | AH120: =AD120*F$131 -> 60.6425
A121: 9 | C121: 17:50 | F121: 43 | G121: 38 | H121: 58 | I121: 50 | L121: =(F121+G121+H121+I121)/4 -> 47.25 | N121: 54.5 | O121: 50 | T121: =(N121+O121)/2 -> 52.25 | V121: 51.5 | W121: 47 | X121: 41 | Y121: 41 | AB121: =(V121+W121+X121+Y121)/4 -> 45.125 | AD121: =(L121+T121+AB121)/3 -> 48.208333 | AH121: =AD121*F$131 -> 61.224583
A122: 10 | C122: 18:50 | F122: 42.5 | G122: 37.5 | H122: 57.5 | I122: 50 | L122: =(F122+G122+H122+I122)/4 -> 46.875 | N122: 55 | O122: 50.5 | T122: =(N122+O122)/2 -> 52.75 | V122: 52 | W122: 48.5 | X122: 41 | Y122: 41.5 | AB122: =(V122+W122+X122+Y122)/4 -> 45.75 | AD122: =(L122+T122+AB122)/3 -> 48.458333 | AH122: =AD122*F$131 -> 61.542083
A123: 11 | C123: 19:50 | F123: 42 | G123: 37.5 | H123: 57 | I123: 50 | L123: =(F123+G123+H123+I123)/4 -> 46.625 | N123: 54.5 | O123: 50.5 | T123: =(N123+O123)/2 -> 52.5 | V123: 52 | W123: 48.5 | X123: 41 | Y123: 41 | AB123: =(V123+W123+X123+Y123)/4 -> 45.625 | AD123: =(L123+T123+AB123)/3 -> 48.25 | AH123: =AD123*F$131 -> 61.2775
A124: 12 | C124: 20:50 | F124: 41 | G124: 37 | H124: 56 | I124: 49.5 | L124: =(F124+G124+H124+I124)/4 -> 45.875 | N124: 54 | O124: 50 | T124: =(N124+O124)/2 -> 52 | V124: 51.5 | W124: 47.5 | X124: 41 | Y124: 41 | AB124: =(V124+W124+X124+Y124)/4 -> 45.25 | AD124: =(L124+T124+AB124)/3 -> 47.708333 | AH124: =AD124*F$131 -> 60.589583
A125: 13 | C125: 21:50 | F125: 40.5 | G125: 37 | H125: 55.5 | I125: 49 | L125: =(F125+G125+H125+I125)/4 -> 45.5 | N125: 53.5 | O125: 49.5 | T125: =(N125+O125)/2 -> 51.5 | V125: 51 | W125: 47.5 | X125: 41 | Y125: 41 | AB125: =(V125+W125+X125+Y125)/4 -> 45.125 | AD125: =(L125+T125+AB125)/3 -> 47.375 | AH125: =AD125*F$131 -> 60.16625
C127: Tср | F127: =AVERAGE(F113:I125) -> 45.721154 | N127: =AVERAGE(N113:Q125) -> 51.096154 | V127: =AVERAGE(V113:W125) -> 48.711538 | X127: =AVERAGE(X113:Y125) -> 41.5
C130: Tср/общ. | F130: =(F127+F93+F60+F27)/4 -> 48.933494 | N130: =(N127+N93+N60+N27)/4 -> 53.730769 | V130: =(V127+V93+V60+V27)/4 -> 48.552885 | X130: =(X127+X93+X60+X27)/4 -> 41.980769
C131: S4 | F131: 1.27
S133: Подпись
...

Sheet Приложение 6
Q1: Приложение 6 | AC1: Лист 1
A3: Вспомогательная сводная таблица средних повременных температур по всем стенкам печи и средней повременной температуры всей печи (tП) при двух топках в сутки
A4: Вспомогательная таблица
A6: Организация | M6: Печь | AC6: Испытание № 1 05.01.2009 г.
M7: ='[1]Общие данные'!C3 -> ОИК ХК (Отопительная с хлебной камерой И.Кузнецова)
M8: Подсчёт tП печи
A10: Номер п/п | D10: Часы, мин | I10: I стенка | M10: II стенка | Q10: III стенка | U10: IV стенка | Y10: V стенка
I12: tI | J12: tIFI | M12: tII | N12: tIIFII | Q12: tIII | R12: tIIIFIII | U12: tIV | V12: tIVFIV | Y12: tV | Z12: tVFV | AC12: ∑tF | AF12: tП
A14: 1 | D14: 0.40972222 | I14: ='Приложение 5'!AD13 -> 48.638889 | J14: ='Приложение 5'!AH13 -> 94.359444 | M14: ='Приложение 5'!AD46 -> 48.75 | N14: ='Приложение 5'!AH46 -> 61.9125 | Q14: ='Приложение 5'!AD79 -> 49.333333 | R14: ='Приложение 5'!AH79 -> 95.706667 | U14: ='Приложение 5'!AD113 -> 47.083333 | V14: ='Приложение 5'!AH113 -> 59.795833 | AC14: =J14+N14+R14+V14 -> 311.77444 | AF14: =AC14/I$29 -> 48.562998
A15: 2 | D15: 0.45138889 | I15: ='Приложение 5'!AD14 -> 48.527778 | J15: ='Приложение 5'!AH14 -> 94.143889 | M15: ='Приложение 5'!AD47 -> 48.291667 | N15: ='Приложение 5'!AH47 -> 61.330417 | Q15: ='Приложение 5'!AD80 -> 49.083333 | R15: ='Приложение 5'!AH80 -> 95.221667 | U15: ='Приложение 5'!AD114 -> 46.333333 | V15: ='Приложение 5'!AH114 -> 58.843333 | AC15: =J15+N15+R15+V15 -> 309.53931 | AF15: =AC15/I$29 -> 48.214845
A16: 3 | D16: 0.49305556 | I16: ='Приложение 5'!AD15 -> 49.166667 | J16: ='Приложение 5'!AH15 -> 95.383333 | M16: ='Приложение 5'!AD48 -> 48 | N16: ='Приложение 5'!AH48 -> 60.96 | Q16: ='Приложение 5'!AD81 -> 48.583333 | R16: ='Приложение 5'!AH81 -> 94.251667 | U16: ='Приложение 5'!AD115 -> 45.666667 | V16: ='Приложение 5'!AH115 -> 57.996667 | AC16: =J16+N16+R16+V16 -> 308.59167 | AF16: =AC16/I$29 -> 48.067238
A17: 4 | D17: 0.53472222 | I17: ='Приложение 5'!AD16 -> 49.347222 | J17: ='Приложение 5'!AH16 -> 95.733611 | M17: ='Приложение 5'!AD49 -> 48.291667 | N17: ='Приложение 5'!AH49 -> 61.330417 | Q17: ='Приложение 5'!AD82 -> 49.486111 | R17: ='Приложение 5'!AH82 -> 96.003056 | U17: ='Приложение 5'!AD116 -> 46.666667 | V17: ='Приложение 5'!AH116 -> 59.266667 | AC17: =J17+N17+R17+V17 -> 312.33375 | AF17: =AC17/I$29 -> 48.650117
A18: 5 | D18: 0.57638889 | I18: ='Приложение 5'!AD17 -> 48.805556 | J18: ='Приложение 5'!AH17 -> 94.682778 | M18: ='Приложение 5'!AD50 -> 47.875 | N18: ='Приложение 5'!AH50 -> 60.80125 | Q18: ='Приложение 5'!AD83 -> 50.652778 | R18: ='Приложение 5'!AH83 -> 98.266389 | U18: ='Приложение 5'!AD117 -> 46.291667 | V18: ='Приложение 5'!AH117 -> 58.790417 | AC18: =J18+N18+R18+V18 -> 312.54083 | AF18: =AC18/I$29 -> 48.682373
A19: 6 | D19: 0.61805556 | I19: ='Приложение 5'!AD18 -> 50.763889 | J19: ='Приложение 5'!AH18 -> 98.481944 | M19: ='Приложение 5'!AD51 -> 49.083333 | N19: ='Приложение 5'!AH51 -> 62.335833 | Q19: ='Приложение 5'!AD84 -> 51.763889 | R19: ='Приложение 5'!AH84 -> 100.42194 | U19: ='Приложение 5'!AD118 -> 47.583333 | V19: ='Приложение 5'!AH118 -> 60.430833 | AC19: =J19+N19+R19+V19 -> 321.67056 | AF19: =AC19/I$29 -> 50.104448
A20: 7 | D20: 0.65972222 | I20: ='Приложение 5'!AD19 -> 50.375 | J20: ='Приложение 5'!AH19 -> 97.7275 | M20: ='Приложение 5'!AD52 -> 50.125 | N20: ='Приложение 5'!AH52 -> 63.65875 | Q20: ='Приложение 5'!AD85 -> 52.125 | R20: ='Приложение 5'!AH85 -> 101.1225 | U20: ='Приложение 5'!AD119 -> 47.625 | V20: ='Приложение 5'!AH119 -> 60.48375 | AC20: =J20+N20+R20+V20 -> 322.9925 | AF20: =AC20/I$29 -> 50.310358
A21: 8 | D21: 0.70138889 | I21: ='Приложение 5'!AD20 -> 51.222222 | J21: ='Приложение 5'!AH20 -> 99.371111 | M21: ='Приложение 5'!AD53 -> 50.458333 | N21: ='Приложение 5'!AH53 -> 64.082083 | Q21: ='Приложение 5'!AD86 -> 53 | R21: ='Приложение 5'!AH86 -> 102.82 | U21: ='Приложение 5'!AD120 -> 47.75 | V21: ='Приложение 5'!AH120 -> 60.6425 | AC21: =J21+N21+R21+V21 -> 326.91569 | AF21: =AC21/I$29 -> 50.921448
A22: 9 | D22: 0.74305556 | I22: ='Приложение 5'!AD21 -> 51.055556 | J22: ='Приложение 5'!AH21 -> 99.047778 | M22: ='Приложение 5'!AD54 -> 50.791667 | N22: ='Приложение 5'!AH54 -> 64.505417 | Q22: ='Приложение 5'!AD87 -> 53.236111 | R22: ='Приложение 5'!AH87 -> 103.27806 | U22: ='Приложение 5'!AD121 -> 48.208333 | V22: ='Приложение 5'!AH121 -> 61.224583 | AC22: =J22+N22+R22+V22 -> 328.05583 | AF22: =AC22/I$29 -> 51.099039
A23: 10 | D23: 0.78472222 | I23: ='Приложение 5'!AD22 -> 51.083333 | J23: ='Приложение 5'!AH22 -> 99.101667 | M23: ='Приложение 5'!AD55 -> 51.083333 | N23: ='Приложение 5'!AH55 -> 64.875833 | Q23: ='Приложение 5'!AD88 -> 53.402778 | R23: ='Приложение 5'!AH88 -> 103.60139 | U23: ='Приложение 5'!AD122 -> 48.458333 | V23: ='Приложение 5'!AH122 -> 61.542083 | AC23: =J23+N23+R23+V23 -> 329.12097 | AF23: =AC23/I$29 -> 51.264949
A24: 11 | D24: 0.82638889 | I24: ='Приложение 5'!AD23 -> 50.652778 | J24: ='Приложение 5'!AH23 -> 98.266389 | M24: ='Приложение 5'!AD56 -> 50.791667 | N24: ='Приложение 5'!AH56 -> 64.505417 | Q24: ='Приложение 5'!AD89 -> 52.847222 | R24: ='Приложение 5'!AH89 -> 102.52361 | U24: ='Приложение 5'!AD123 -> 48.25 | V24: ='Приложение 5'!AH123 -> 61.2775 | AC24: =J24+N24+R24+V24 -> 326.57292 | AF24: =AC24/I$29 -> 50.868056
A25: 12 | D25: 0.86805556 | I25: ='Приложение 5'!AD24 -> 49.777778 | J25: ='Приложение 5'!AH24 -> 96.568889 | M25: ='Приложение 5'!AD57 -> 50.083333 | N25: ='Приложение 5'!AH57 -> 63.605833 | Q25: ='Приложение 5'!AD90 -> 51.916667 | R25: ='Приложение 5'!AH90 -> 100.71833 | U25: ='Приложение 5'!AD124 -> 47.708333 | V25: ='Приложение 5'!AH124 -> 60.589583 | AC25: =J25+N25+R25+V25 -> 321.48264 | AF25: =AC25/I$29 -> 50.075177
A26: 13 | D26: 0.90972222 | I26: ='Приложение 5'!AD25 -> 49.194444 | J26: ='Приложение 5'!AH25 -> 95.437222 | M26: ='Приложение 5'!AD58 -> 49.416667 | N26: ='Приложение 5'!AH58 -> 62.759167 | Q26: ='Приложение 5'!AD91 -> 51.472222 | R26: ='Приложение 5'!AH91 -> 99.856111 | U26: ='Приложение 5'!AD125 -> 47.375 | V26: ='Приложение 5'!AH125 -> 60.16625 | AC26: =J26+N26+R26+V26 -> 318.21875 | AF26: =AC26/I$29 -> 49.566783
D28: Тср | I28: =SUM(I14:I27)/13 -> 49.893162 | M28: =SUM(M14:M27)/13 -> 49.464744 | Q28: =SUM(Q14:Q27)/13 -> 51.300214 | U28: =SUM(U14:U27)/13 -> 47.307692 | AF28: =SUM(AF14:AF27)/13 -> 49.722141
D29: So | I29: ='Приложение 5'!F29+'Приложение 5'!F62+'Приложение 5'!F95+'Приложение 5'!F131 -> 6.42
P30: Подпись
